BEGIN:VCALENDAR
VERSION:2.0
PRODID:-//The Elliotts - ECPv6.15.20//NONSGML v1.0//EN
CALSCALE:GREGORIAN
METHOD:PUBLISH
X-WR-CALNAME:The Elliotts
X-ORIGINAL-URL:https://iloveabby.com
X-WR-CALDESC:Events for The Elliotts
REFRESH-INTERVAL;VALUE=DURATION:PT1H
X-Robots-Tag:noindex
X-PUBLISHED-TTL:PT1H
BEGIN:VTIMEZONE
TZID:America/New_York
BEGIN:DAYLIGHT
TZOFFSETFROM:-0500
TZOFFSETTO:-0400
TZNAME:EDT
DTSTART:20230312T070000
END:DAYLIGHT
BEGIN:STANDARD
TZOFFSETFROM:-0400
TZOFFSETTO:-0500
TZNAME:EST
DTSTART:20231105T060000
END:STANDARD
BEGIN:DAYLIGHT
TZOFFSETFROM:-0500
TZOFFSETTO:-0400
TZNAME:EDT
DTSTART:20240310T070000
END:DAYLIGHT
BEGIN:STANDARD
TZOFFSETFROM:-0400
TZOFFSETTO:-0500
TZNAME:EST
DTSTART:20241103T060000
END:STANDARD
BEGIN:DAYLIGHT
TZOFFSETFROM:-0500
TZOFFSETTO:-0400
TZNAME:EDT
DTSTART:20250309T070000
END:DAYLIGHT
BEGIN:STANDARD
TZOFFSETFROM:-0400
TZOFFSETTO:-0500
TZNAME:EST
DTSTART:20251102T060000
END:STANDARD
END:VTIMEZONE
BEGIN:VEVENT
DTSTART;VALUE=DATE:20240406
DTEND;VALUE=DATE:20240407
DTSTAMP:20260421T172421
CREATED:20230905T212111Z
LAST-MODIFIED:20230905T212249Z
UID:20-1712361600-1712447999@iloveabby.com
SUMMARY:Abby & Lucas Wedding
DESCRIPTION:Abby Toland & Lucas Elliott become one under God. We are thrilled that God has trusted us to be stewards of one another\, and we are looking forward to celebrating this amazing blessing with some close friends and family. \nThe wedding will be outdoors and will feature a ceremony and reception.
URL:https://iloveabby.com/index.php/event/abby-lucas-wedding/
LOCATION:Undecided
END:VEVENT
END:VCALENDAR